BEGIN:VCALENDAR
CALSCALE:GREGORIAN
BEGIN:VEVENT
DTSTAMP:20231022T060901Z
DTSTART:20230828T120000Z
DTEND:20230828T130000Z
SUMMARY:10th Briefing on Regulatory Trends in the European Union and at the International Level 
UID:56c44155-9796-4bc3-b758-1bf2ea92a6ed
LOCATION:
DESCRIPTION:Thank you for registering to our event "10th Briefing on Regulatory Trends in the European Union and at the International Level".\n\nWe're looking forward to seeing you there.\n\nJoin Zoom Meeting\nhttps://us02web.zoom.us/j/88954624324\n\nMeeting ID: 889 5462 4324\nOne tap mobile\n+41315280988\,\,88954624324# Switzerland\n+41432107042\,\,88954624324# Switzerland\n\nDial by your location\n        +41 31 528 09 88 Switzerland\n        +41 43 210 70 42 Switzerland\n        +41 43 210 71 08 Switzerland\n        +41 44 529 92 72 Switzerland\n        +41 22 591 00 05 Switzerland\n        +41 22 591 01 56 Switzerland\n\nIf you have any questions or need to cancel your registration\, please reply to this Email.\n\nYour Global Compact Network Switzerland & Liechtenstein Secretariat\n\nHere are the event details:\n\n10th Briefing on Regulatory Trends in the European Union and at the International Level \n28 August 2023\, 14:00–15:00 CEST\nOnline Event
X-ALT-DESC;FMTTYPE=text/html:Thank you for registering to our event "10th Briefing on Regulatory Trends in the European Union and at the International Level".\n\nWe're looking forward to seeing you there.\n\nJoin Zoom Meeting\nhttps://us02web.zoom.us/j/88954624324\n\nMeeting ID: 889 5462 4324\nOne tap mobile\n+41315280988\,\,88954624324# Switzerland\n+41432107042\,\,88954624324# Switzerland\n\nDial by your location\n        +41 31 528 09 88 Switzerland\n        +41 43 210 70 42 Switzerland\n        +41 43 210 71 08 Switzerland\n        +41 44 529 92 72 Switzerland\n        +41 22 591 00 05 Switzerland\n        +41 22 591 01 56 Switzerland\n\nIf you have any questions or need to cancel your registration\, please reply to this Email.\n\nYour Global Compact Network Switzerland & Liechtenstein Secretariat\n\nHere are the event details:<br>10th Briefing on Regulatory Trends in the European Union and at the International Level \n28 August 2023\, 14:00–15:00 CEST\nOnline Event
END:VEVENT
END:VCALENDAR
