BEGIN:VCALENDAR
CALSCALE:GREGORIAN
BEGIN:VEVENT
DTSTAMP:20231022T063021Z
DTSTART:20210610T080000Z
DTEND:20210610T093000Z
SUMMARY:Global Compact Netzwerk Deutschland: Webinarreihe Klimamanagement | Corporate Carbon Footprint Teil 2
UID:578b638b-f3fa-401e-ab65-9c1818349863
LOCATION:
X-ALT-DESC;FMTTYPE=text/html:
END:VEVENT
END:VCALENDAR
