BEGIN:VCALENDAR
CALSCALE:GREGORIAN
BEGIN:VEVENT
DTSTAMP:20231022T063332Z
DTSTART:20210415T120000Z
DTEND:20210415T133000Z
SUMMARY:Transforming business into a force for good: Learning future skills from Social Entrepreneurs
UID:57e77938-83f4-45c7-ac26-ff615c85f155
LOCATION:
DESCRIPTION:Thank you for registering to our event "Transforming organizations through Social Entrepreneurship: building a model for change".\n\nWe're looking forward to seeing you there.\n\nJoin Zoom Meeting\nhttps://us02web.zoom.us/j/7040330026\n\nMeeting ID: 704 033 0026\n\nDial in according to current location (Switzerland):\n+41 44 529 92 72\n+41 22 591 00 05\n+41 22 591 01 56\n+41 31 528 09 88\n+41 43 210 70 42\n+41 43 210 71 08\nOther locations: https://us02web.zoom.us/u/kc7FZabPlf\n\nIf you have any questions or need to cancel your registration\, please reply to this Email.\n\nYour Global Compact Network Switzerland & Liechtenstein Secretariat\n\n\n\nHere are the event details:\n\nTransforming business into a force for good: Learning future skills from Social Entrepreneurs\n15 April 2021\, 14:00–15:30 CEST\nOnline Event
X-ALT-DESC;FMTTYPE=text/html:Thank you for registering to our event "Transforming organizations through Social Entrepreneurship: building a model for change".\n\nWe're looking forward to seeing you there.\n\nJoin Zoom Meeting\nhttps://us02web.zoom.us/j/7040330026\n\nMeeting ID: 704 033 0026\n\nDial in according to current location (Switzerland):\n+41 44 529 92 72\n+41 22 591 00 05\n+41 22 591 01 56\n+41 31 528 09 88\n+41 43 210 70 42\n+41 43 210 71 08\nOther locations: https://us02web.zoom.us/u/kc7FZabPlf\n\nIf you have any questions or need to cancel your registration\, please reply to this Email.\n\nYour Global Compact Network Switzerland & Liechtenstein Secretariat\n\n\n\nHere are the event details:<br>Transforming business into a force for good: Learning future skills from Social Entrepreneurs\n15 April 2021\, 14:00–15:30 CEST\nOnline Event
END:VEVENT
END:VCALENDAR
