BEGIN:VCALENDAR
CALSCALE:GREGORIAN
BEGIN:VEVENT
DTSTAMP:20231022T063126Z
DTSTART:20230711T080000Z
DTEND:20230711T100000Z
SUMMARY:Regenerative Agriculture: Promoting sustainable and productive land regeneration
UID:510c6e35-4875-44a3-9dbc-54e7c3acdb1a
LOCATION:
DESCRIPTION:Thank you for registering to our event!\n\nWe're looking forward to seeing you there.\n\nHere are the event details:\n\nRegenerative Agriculture: Promoting sustainable and productive land regeneration\n11 July 2023\, 10:00–12:00\nWebinar
X-ALT-DESC;FMTTYPE=text/html:Thank you for registering to our event!\n\nWe're looking forward to seeing you there.\n\nHere are the event details:<br>Regenerative Agriculture: Promoting sustainable and productive land regeneration\n11 July 2023\, 10:00–12:00\nWebinar
END:VEVENT
END:VCALENDAR
