BEGIN:VCALENDAR
CALSCALE:GREGORIAN
BEGIN:VEVENT
DTSTAMP:20231022T062917Z
DTSTART:20200130T110000Z
DTEND:20200130T160000Z
SUMMARY:GCNSL & öbu: 4th Meeting of the Working Group on Sustainable Supply Chains
UID:51370b9b-3e3c-4350-bb94-89ab1a0e9d96
LOCATION:Zugerstrasse 15\, 6030 Ebikon\, Schweiz
DESCRIPTION:Thank you for registering to our event!\n\nWe're looking forward to seeing you there.\n\nHere are the event details:\n\nGCNSL & öbu: 4th Meeting of the Working Group on Sustainable Supply Chains\n30 January 2020\, 12:00–17:00\nSchindler Aufzüge\, Zugerstrasse 15\, 6030 Ebikon\, Schweiz
X-ALT-DESC;FMTTYPE=text/html:Thank you for registering to our event!\n\nWe're looking forward to seeing you there.\n\nHere are the event details:<br>GCNSL & öbu: 4th Meeting of the Working Group on Sustainable Supply Chains\n30 January 2020\, 12:00–17:00\nSchindler Aufzüge\, Zugerstrasse 15\, 6030 Ebikon\, Schweiz
END:VEVENT
END:VCALENDAR
