BEGIN:VCALENDAR
CALSCALE:GREGORIAN
BEGIN:VEVENT
DTSTAMP:20231022T063251Z
DTSTART:20221027T143000Z
DTEND:20221027T180000Z
SUMMARY:Responsible Impact Board Program - Addressing Key Issues (2/3)
UID:53d99322-1135-49ce-af54-674b43163f9b
LOCATION:Hegibachstrasse 47\, 8032 Zürich\, Schweiz
DESCRIPTION:Thank you for registering to our event!\n\nWe're looking forward to seeing you there.\n\nHere are the event details:\n\nResponsible Impact Board Program - Addressing Key Issues (2/3)\n27 October 2022\, 16:30–20:00 CEST\nZürich\, Hegibachstrasse 47\, 8032 Zürich\, Schweiz
X-ALT-DESC;FMTTYPE=text/html:Thank you for registering to our event!\n\nWe're looking forward to seeing you there.\n\nHere are the event details:<br>Responsible Impact Board Program - Addressing Key Issues (2/3)\n27 October 2022\, 16:30–20:00 CEST\nZürich\, Hegibachstrasse 47\, 8032 Zürich\, Schweiz
END:VEVENT
END:VCALENDAR
