BEGIN:VCALENDAR
CALSCALE:GREGORIAN
BEGIN:VEVENT
DTSTAMP:20231022T063128Z
DTSTART:20220406T070000Z
DTEND:20220406T074500Z
SUMMARY:Menschenrechtliche Sorgfalt in der Handelsbranche – Wie starten?
UID:5a0df478-486e-470e-be71-11a5cbc59e98
LOCATION:
X-ALT-DESC;FMTTYPE=text/html:
END:VEVENT
END:VCALENDAR
