BEGIN:VCALENDAR
CALSCALE:GREGORIAN
BEGIN:VEVENT
DTSTAMP:20231022T063325Z
DTSTART:20200610T083000Z
DTEND:20200610T100000Z
SUMMARY:Webinar: Agenda 2030 and the Sustainable Development Goals (SDGs) for innovation and business success
UID:5b6d9713-4a30-4ee7-8c7c-f502e3b7ca4e
LOCATION:
DESCRIPTION:Thank you for registering to our event!\n\nWe're looking forward to seeing you there.\n\nHere are the event details:\n\nWebinar: Agenda 2030 and the Sustainable Development Goals (SDGs) for innovation and business success\n10 June 2020\, 10:30–12:00\nWebinar
X-ALT-DESC;FMTTYPE=text/html:Thank you for registering to our event!\n\nWe're looking forward to seeing you there.\n\nHere are the event details:<br>Webinar: Agenda 2030 and the Sustainable Development Goals (SDGs) for innovation and business success\n10 June 2020\, 10:30–12:00\nWebinar
END:VEVENT
END:VCALENDAR
