BEGIN:VCALENDAR
CALSCALE:GREGORIAN
BEGIN:VEVENT
DTSTAMP:20231022T063106Z
DTSTART:20210623T080000Z
DTEND:20210623T090000Z
SUMMARY:Global Compact Netzwerk Deutschland: Webinarreihe Klimamanagement | Pariser Klimaabkommen
UID:5dc33120-15cb-4a07-887a-093bd68d7875
LOCATION:
X-ALT-DESC;FMTTYPE=text/html:
END:VEVENT
END:VCALENDAR
