BEGIN:VCALENDAR
CALSCALE:GREGORIAN
BEGIN:VEVENT
DTSTAMP:20231022T062832Z
DTSTART:20220628T141500Z
DTEND:20220628T153000Z
SUMMARY: Pre-evening dialogue: Green Recovery
UID:5e158bb1-720e-4467-a64a-c54e0fdf2ccb
LOCATION:
X-ALT-DESC;FMTTYPE=text/html:
END:VEVENT
END:VCALENDAR
