BEGIN:VCALENDAR
CALSCALE:GREGORIAN
BEGIN:VEVENT
DTSTAMP:20231022T062944Z
DTSTART:20220901T143000Z
DTEND:20220901T180000Z
SUMMARY:Responsible Impact Board Program - Embracing the Mindset
UID:5e30d553-7ea3-4ed9-9155-a4fe8201ee9b
LOCATION:Hegibachstrasse 47\, 8032 Zürich\, Schweiz
DESCRIPTION:Thank you for registering to "Responsible Impact Board Training - Embracing the Mindset". \n\nWe will get in touch with you with further details soon.\n\nIf you have any questions or need to cancel your participation\, please reply to this Email.\n\nYour Global Compact Network Switzerland & Liechtenstein Secretariat\n\nResponsible Impact Board Program - Embracing the Mindset\n1 September 2022\, 16:30–20:00\nZürich\, Hegibachstrasse 47\, 8032 Zürich\, Schweiz
X-ALT-DESC;FMTTYPE=text/html:Thank you for registering to "Responsible Impact Board Training - Embracing the Mindset". \n\nWe will get in touch with you with further details soon.\n\nIf you have any questions or need to cancel your participation\, please reply to this Email.\n\nYour Global Compact Network Switzerland & Liechtenstein Secretariat<br>Responsible Impact Board Program - Embracing the Mindset\n1 September 2022\, 16:30–20:00\nZürich\, Hegibachstrasse 47\, 8032 Zürich\, Schweiz
END:VEVENT
END:VCALENDAR
