BEGIN:VCALENDAR
CALSCALE:GREGORIAN
BEGIN:VEVENT
DTSTAMP:20231022T062748Z
DTSTART:20210412T120000Z
DTEND:20210412T130000Z
SUMMARY:2nd Briefing on Regulatory Trends in the European Union and at the International Level
UID:64bbf594-dae1-4a27-bed2-6f4527ec7879
LOCATION:
DESCRIPTION:Thank you for registering to our event "2nd Briefing on Regulatory Trends in the European Union and at the International Level".\n\nWe're looking forward to seeing you there.\n\nJoin Zoom Meeting\nhttps://us02web.zoom.us/j/81595772492\n\nMeeting ID: 815 9577 2492\n\nDial in according to current location (Switzerland):\n+41 44 529 92 72\n+41 22 591 00 05\n+41 22 591 01 56\n+41 31 528 09 88\n+41 43 210 70 42\n+41 43 210 71 08\nOther locations: https://us02web.zoom.us/u/kc7FZabPlf\n\nIf you have any questions or need to cancel your registration\, please reply to this Email.\n\nYour Global Compact Network Switzerland & Liechtenstein Secretariat\n\n\n\n\nHere are the event details:\n\n2nd Briefing on Regulatory Trends in the European Union and at the International Level\n12 April 2021\, 14:00–15:00 CEST\nOnline Event
X-ALT-DESC;FMTTYPE=text/html:Thank you for registering to our event "2nd Briefing on Regulatory Trends in the European Union and at the International Level".\n\nWe're looking forward to seeing you there.\n\nJoin Zoom Meeting\nhttps://us02web.zoom.us/j/81595772492\n\nMeeting ID: 815 9577 2492\n\nDial in according to current location (Switzerland):\n+41 44 529 92 72\n+41 22 591 00 05\n+41 22 591 01 56\n+41 31 528 09 88\n+41 43 210 70 42\n+41 43 210 71 08\nOther locations: https://us02web.zoom.us/u/kc7FZabPlf\n\nIf you have any questions or need to cancel your registration\, please reply to this Email.\n\nYour Global Compact Network Switzerland & Liechtenstein Secretariat\n\n\n\n\nHere are the event details:<br>2nd Briefing on Regulatory Trends in the European Union and at the International Level\n12 April 2021\, 14:00–15:00 CEST\nOnline Event
END:VEVENT
END:VCALENDAR
