BEGIN:VCALENDAR
CALSCALE:GREGORIAN
BEGIN:VEVENT
DTSTAMP:20231022T062839Z
DTSTART:20201103T150000Z
DTEND:20201103T164500Z
SUMMARY:4th Global Compact Dialogue & UNGC 20th Anniversary Celebration
UID:650ca275-1ff7-42e4-820d-c20e664ef981
LOCATION:
DESCRIPTION:Thank you for registering to our event!\n\nWe're looking forward to seeing you there.\n\nHere are the event details:\n\n4th Global Compact Dialogue & UNGC 20th Anniversary Celebration\n3 November 2020\, 16:00–17:45 CET\n4th Global Compact Dialogue
X-ALT-DESC;FMTTYPE=text/html:Thank you for registering to our event!\n\nWe're looking forward to seeing you there.\n\nHere are the event details:<br>4th Global Compact Dialogue & UNGC 20th Anniversary Celebration\n3 November 2020\, 16:00–17:45 CET\n4th Global Compact Dialogue
END:VEVENT
END:VCALENDAR
