BEGIN:VCALENDAR
CALSCALE:GREGORIAN
BEGIN:VEVENT
DTSTAMP:20231022T063414Z
DTSTART:20220503T141500Z
DTEND:20220503T153000Z
SUMMARY: Pre-evening dialogue: Impact measurement
UID:654df732-74a2-45e7-801f-f10393b624bd
LOCATION:
X-ALT-DESC;FMTTYPE=text/html:
END:VEVENT
END:VCALENDAR
