BEGIN:VCALENDAR
CALSCALE:GREGORIAN
BEGIN:VEVENT
DTSTAMP:20231022T063028Z
DTSTART:20210727T140000Z
DTEND:20210727T180000Z
SUMMARY:SDG Ambition Live Q&A Session
UID:67f98f1f-5b38-409a-8c2c-2787808dfe21
LOCATION:
X-ALT-DESC;FMTTYPE=text/html:
END:VEVENT
END:VCALENDAR
