BEGIN:VCALENDAR
CALSCALE:GREGORIAN
BEGIN:VEVENT
DTSTAMP:20231022T062944Z
DTSTART:20220330T130000Z
DTEND:20220331T130000Z
SUMMARY:Climate Ambition Accelerator 2022 Information Session
UID:683cb541-8a79-42da-91a6-ed7adf7370a3
LOCATION:
X-ALT-DESC;FMTTYPE=text/html:
END:VEVENT
END:VCALENDAR
