BEGIN:VCALENDAR
CALSCALE:GREGORIAN
BEGIN:VEVENT
DTSTAMP:20231022T063149Z
DTSTART:20200504T133000Z
DTEND:20200504T143000Z
SUMMARY:Webinar: Wie erstelle ich den Fortschrittsbericht (COP)? - Deutsch
UID:69223fc5-4b95-4e9c-beea-7326d044b131
LOCATION:
DESCRIPTION:Thank you for registering to our event!\n\nWe're looking forward to seeing you there.\n\nHere are the event details:\n\nWebinar: Wie erstelle ich den Fortschrittsbericht (COP)? - Deutsch\n4 May 2020\, 15:30–16:30\nWebinar
X-ALT-DESC;FMTTYPE=text/html:Thank you for registering to our event!\n\nWe're looking forward to seeing you there.\n\nHere are the event details:<br>Webinar: Wie erstelle ich den Fortschrittsbericht (COP)? - Deutsch\n4 May 2020\, 15:30–16:30\nWebinar
END:VEVENT
END:VCALENDAR
