BEGIN:VCALENDAR
CALSCALE:GREGORIAN
BEGIN:VEVENT
DTSTAMP:20231022T063435Z
DTSTART:20220406T130000Z
DTEND:20220406T143000Z
SUMMARY:Human Rights Due Diligence in conflict-affected areas with focus on the current situation in Russia and Ukraine
UID:692b6276-7332-4640-8269-d0d14fa1007f
LOCATION:
DESCRIPTION:Thank you for registering to our event "Human Rights Due Diligence in Conflict-Affected Areas with Focus on the Current Situation in Russia and Ukraine". \n\nWe're looking forward to seeing you there.\n\nJoin the webinar over this link:\nhttps://bit.ly/3ujMPxX\n\nIf you have any questions or need to cancel your registration\, please reply to this Email.\n\nYour Global Compact Network Switzerland & Liechtenstein Secretariat\n\nHere are the event details:\n\nHuman Rights Due Diligence in conflict-affected areas with focus on the current situation in Russia and Ukraine\n6 April 2022\, 15:00–16:30 CEST\nWebinar
X-ALT-DESC;FMTTYPE=text/html:Thank you for registering to our event "Human Rights Due Diligence in Conflict-Affected Areas with Focus on the Current Situation in Russia and Ukraine". \n\nWe're looking forward to seeing you there.\n\nJoin the webinar over this link:\nhttps://bit.ly/3ujMPxX\n\nIf you have any questions or need to cancel your registration\, please reply to this Email.\n\nYour Global Compact Network Switzerland & Liechtenstein Secretariat\n\nHere are the event details:<br>Human Rights Due Diligence in conflict-affected areas with focus on the current situation in Russia and Ukraine\n6 April 2022\, 15:00–16:30 CEST\nWebinar
END:VEVENT
END:VCALENDAR
