BEGIN:VCALENDAR
CALSCALE:GREGORIAN
BEGIN:VEVENT
DTSTAMP:20231022T063314Z
DTSTART:20220315T110000Z
DTEND:20220315T183000Z
SUMMARY:Target Gender Equality Live
UID:61a9a76b-aad5-45b7-a3e0-5bc56ce37f03
LOCATION:
X-ALT-DESC;FMTTYPE=text/html:
END:VEVENT
END:VCALENDAR
