BEGIN:VCALENDAR
CALSCALE:GREGORIAN
BEGIN:VEVENT
DTSTAMP:20231022T063008Z
DTSTART:20220705T150000Z
DTEND:20220705T163000Z
SUMMARY:URC Side Conference: Business contributing to find solutions for energy\, climate and food challenges in Ukraine
UID:6242b2ae-f979-43c6-a6a4-41ca2c512574
LOCATION:Lugano\, Switzerland
DESCRIPTION:Thank you for registering to our Side Conference at the URC "Business contributing to find solutions for energy\, climate and food challenges in Ukraine"\n\nMore information will follow in due course.\n\nWe're looking forward to seeing you there.\n\nHere are the event details:\n\nURC Side Conference: Business contributing to find solutions for energy\, climate and food challenges in Ukraine\n5 July 2022\, 17:00–18:30 CEST\nUkrainian-Swiss Business Hub Lugano\, Lugano\, Switzerland
X-ALT-DESC;FMTTYPE=text/html:Thank you for registering to our Side Conference at the URC "Business contributing to find solutions for energy\, climate and food challenges in Ukraine"\n\nMore information will follow in due course.\n\nWe're looking forward to seeing you there.\n\nHere are the event details:<br>URC Side Conference: Business contributing to find solutions for energy\, climate and food challenges in Ukraine\n5 July 2022\, 17:00–18:30 CEST\nUkrainian-Swiss Business Hub Lugano\, Lugano\, Switzerland
END:VEVENT
END:VCALENDAR
