BEGIN:VCALENDAR
CALSCALE:GREGORIAN
BEGIN:VEVENT
DTSTAMP:20231022T062902Z
DTSTART:20221025T170000Z
DTEND:20221025T190000Z
SUMMARY:UN Global Compact Networking Event in Geneva
UID:62a2701e-6359-4131-8b53-95c43d3cf227
LOCATION:Rue de la Servette 1\, 1201 Geneva\, Schweiz
DESCRIPTION:Thanks a lot for your registration to the "UN Global Compact Networking Event in Geneva". \n\nWe look forward to seeing you at La Trattoria da Tonino on the 25th October. Further information will follow in due course. \n\nIf you have any questions or need to cancel your participation\, please reply to this email.\n\nKind regards\,\n\nYour UN Global Compact Network Switzerland & Liechtenstein Secretariat\n\n\nHere are the event details:\n\nUN Global Compact Networking Event in Geneva\n25 October 2022\, 19:00–21:00\nLa Trattoria da Tonino\, Rue de la Servette 1\, 1201 Geneva\, Schweiz
X-ALT-DESC;FMTTYPE=text/html:Thanks a lot for your registration to the "UN Global Compact Networking Event in Geneva". \n\nWe look forward to seeing you at La Trattoria da Tonino on the 25th October. Further information will follow in due course. \n\nIf you have any questions or need to cancel your participation\, please reply to this email.\n\nKind regards\,\n\nYour UN Global Compact Network Switzerland & Liechtenstein Secretariat\n\n\nHere are the event details:<br>UN Global Compact Networking Event in Geneva\n25 October 2022\, 19:00–21:00\nLa Trattoria da Tonino\, Rue de la Servette 1\, 1201 Geneva\, Schweiz
END:VEVENT
END:VCALENDAR
