BEGIN:VCALENDAR
CALSCALE:GREGORIAN
BEGIN:VEVENT
DTSTAMP:20231022T063011Z
DTSTART:20210127T130000Z
DTEND:20210127T140000Z
SUMMARY:1st Briefing on Regulatory Trends in the European Union and at the International Level
UID:6ac18241-b4e4-462a-879d-07d5a6ee1bb0
LOCATION:
DESCRIPTION:Thank you for registering to our event "1st Briefing on Regulatory Trends in the European Union and at the International Level".\n\nWe're looking forward to seeing you there.\n\nJoin Zoom Meeting\nhttps://us02web.zoom.us/j/82401494160\n\nMeeting ID: 824 0149 4160\n\nDial in according to current location (Switzerland):\n+41 44 529 92 72\n+41 22 591 00 05\n+41 22 591 01 56\n+41 31 528 09 88\n+41 43 210 70 42\n+41 43 210 71 08\nOther locations: https://us02web.zoom.us/u/kc7FZabPlf\n\nIf you have any questions or need to cancel your registration\, please reply to this Email. \n\nYour Global Compact Network Switzerland & Liechtenstein Secretariat\n\n\n\nHere are the event details:\n\n1st Briefing on Regulatory Trends in the European Union and at the International Level\n27 January 2021\, 14:00–15:00 CET\nOnline Event
X-ALT-DESC;FMTTYPE=text/html:Thank you for registering to our event "1st Briefing on Regulatory Trends in the European Union and at the International Level".\n\nWe're looking forward to seeing you there.\n\nJoin Zoom Meeting\nhttps://us02web.zoom.us/j/82401494160\n\nMeeting ID: 824 0149 4160\n\nDial in according to current location (Switzerland):\n+41 44 529 92 72\n+41 22 591 00 05\n+41 22 591 01 56\n+41 31 528 09 88\n+41 43 210 70 42\n+41 43 210 71 08\nOther locations: https://us02web.zoom.us/u/kc7FZabPlf\n\nIf you have any questions or need to cancel your registration\, please reply to this Email. \n\nYour Global Compact Network Switzerland & Liechtenstein Secretariat\n\n\n\nHere are the event details:<br>1st Briefing on Regulatory Trends in the European Union and at the International Level\n27 January 2021\, 14:00–15:00 CET\nOnline Event
END:VEVENT
END:VCALENDAR
