BEGIN:VCALENDAR
CALSCALE:GREGORIAN
BEGIN:VEVENT
DTSTAMP:20231022T063420Z
DTSTART:20210601T120000Z
DTEND:20210601T133000Z
SUMMARY:Human Rights Due Diligence Step 5 - Tracking and communicating on Human Rights
UID:6c0e86d5-4485-43a9-9482-b8a412ecd55a
LOCATION:
DESCRIPTION:Thank you for registering to our event "Human Rights Due Diligence Step 5 - Tracking and communicating on Human Rights".\n\nWe're looking forward to seeing you there.\n\nJoin Teams Meeting\nhttps://bit.ly/3jbB6LT\n\nIf you have any questions or need to cancel your participation\, please reply to this Email.\n\nYour Global Compact Network Switzerland & Liechtenstein Secretariat\n\n\n\nHere are the event details:\n\nHuman Rights Due Diligence Step 5 - Tracking and communicating on Human Rights\n1 June 2021\, 14:00–15:30 CEST\nOnline Event
X-ALT-DESC;FMTTYPE=text/html:Thank you for registering to our event "Human Rights Due Diligence Step 5 - Tracking and communicating on Human Rights".\n\nWe're looking forward to seeing you there.\n\nJoin Teams Meeting\nhttps://bit.ly/3jbB6LT\n\nIf you have any questions or need to cancel your participation\, please reply to this Email.\n\nYour Global Compact Network Switzerland & Liechtenstein Secretariat\n\n\n\nHere are the event details:<br>Human Rights Due Diligence Step 5 - Tracking and communicating on Human Rights\n1 June 2021\, 14:00–15:30 CEST\nOnline Event
END:VEVENT
END:VCALENDAR
