BEGIN:VCALENDAR
CALSCALE:GREGORIAN
BEGIN:VEVENT
DTSTAMP:20231022T062756Z
DTSTART:20230615T080000Z
DTEND:20230615T090000Z
SUMMARY:CoP Q&A Session 2
UID:6ccef732-90cb-4693-a05b-3e1eb2395cc1
LOCATION:
DESCRIPTION:Thank you for registering to our event!\n\nWe're looking forward to seeing you there.\n\nJoin Zoom Meeting\nhttps://us02web.zoom.us/j/81736424206\n\nMeeting ID: 817 3642 4206\nOne tap mobile\n+41315280988\,\,81736424206# Switzerland\n+41432107042\,\,81736424206# Switzerland\n\nDial by your location\n        +41 31 528 09 88 Switzerland\n        +41 43 210 70 42 Switzerland\n        +41 43 210 71 08 Switzerland\n        +41 44 529 92 72 Switzerland\n        +41 22 591 00 05 Switzerland\n        +41 22 591 01 56 Switzerland\nMeeting ID: 817 3642 4206\n\nHere are the event details:\n\nCoP Q&A Session 2\n15 June 2023\, 10:00–11:00\nWebinar
X-ALT-DESC;FMTTYPE=text/html:Thank you for registering to our event!\n\nWe're looking forward to seeing you there.\n\nJoin Zoom Meeting\nhttps://us02web.zoom.us/j/81736424206\n\nMeeting ID: 817 3642 4206\nOne tap mobile\n+41315280988\,\,81736424206# Switzerland\n+41432107042\,\,81736424206# Switzerland\n\nDial by your location\n        +41 31 528 09 88 Switzerland\n        +41 43 210 70 42 Switzerland\n        +41 43 210 71 08 Switzerland\n        +41 44 529 92 72 Switzerland\n        +41 22 591 00 05 Switzerland\n        +41 22 591 01 56 Switzerland\nMeeting ID: 817 3642 4206\n\nHere are the event details:<br>CoP Q&A Session 2\n15 June 2023\, 10:00–11:00\nWebinar
END:VEVENT
END:VCALENDAR
