BEGIN:VCALENDAR
CALSCALE:GREGORIAN
BEGIN:VEVENT
DTSTAMP:20231022T063035Z
DTSTART:20200827T143000Z
DTEND:20200827T160000Z
SUMMARY:Webinar: Value-Balancing - Making social and environmental impact count in decisions
UID:6d0ab06b-730a-49b1-8927-fa2c20ebc6fd
LOCATION:
DESCRIPTION:Thank you for registering to our event!\n\nWe're looking forward to seeing you there.\n\nHere are the event details:\n\nWebinar: Value-Balancing - Making social and environmental impact count in decisions\n27 August 2020\, 16:30–18:00\nWebinar
X-ALT-DESC;FMTTYPE=text/html:Thank you for registering to our event!\n\nWe're looking forward to seeing you there.\n\nHere are the event details:<br>Webinar: Value-Balancing - Making social and environmental impact count in decisions\n27 August 2020\, 16:30–18:00\nWebinar
END:VEVENT
END:VCALENDAR
