BEGIN:VCALENDAR
CALSCALE:GREGORIAN
BEGIN:VEVENT
DTSTAMP:20231022T063418Z
DTSTART:20211207T143000Z
DTEND:20211207T153000Z
SUMMARY:How to Ensure a Living Wage for All Employees
UID:6de12226-80fe-4d0b-974d-521a6f3fb81c
LOCATION:
X-ALT-DESC;FMTTYPE=text/html:
END:VEVENT
END:VCALENDAR
