BEGIN:VCALENDAR
CALSCALE:GREGORIAN
BEGIN:VEVENT
DTSTAMP:20231022T063436Z
DTSTART:20211104T090000Z
DTEND:20211104T094500Z
SUMMARY:Webinarreihe: Wie können Unternehmen ein Compliance-Programm implementieren? Webinar VI
UID:7523682a-3585-42b6-8bb0-b351a337a27f
LOCATION:
X-ALT-DESC;FMTTYPE=text/html:
END:VEVENT
END:VCALENDAR
