BEGIN:VCALENDAR
CALSCALE:GREGORIAN
BEGIN:VEVENT
DTSTAMP:20231022T060908Z
DTSTART:20230914T133000Z
DTEND:20230915T133000Z
SUMMARY:Understanding the Business of Gender-Responsive Procurement
UID:75aca452-747e-483a-a9d6-0b44895c25d5
LOCATION:
X-ALT-DESC;FMTTYPE=text/html:
END:VEVENT
END:VCALENDAR
