BEGIN:VCALENDAR
CALSCALE:GREGORIAN
BEGIN:VEVENT
DTSTAMP:20231022T063056Z
DTSTART:20230202T123000Z
DTEND:20230202T140000Z
SUMMARY:Introduction to the UN Global Compact & CSR/RBC (English)
UID:762669ec-82b3-403e-8eb1-1e2624949a54
LOCATION:
DESCRIPTION:Thank you for registering to our event "Introduction to the UN Global Compact and CSR/RBC".\n\nWe're looking forward to seeing you there.\n\nJoin Zoom Meeting\nhttps://us02web.zoom.us/j/81183887543\n\nMeeting-ID: 811 8388 7543\n\nDial in according to current location (Switzerland):\n+41 44 529 92 72\n+41 22 591 00 05\n+41 22 591 01 56\n+41 31 528 09 88\n+41 43 210 70 42\n+41 43 210 71 08\nOther locations: https://us02web.zoom.us/u/kc7FZabPlf\n\nIf you have any questions or need to cancel your registration\, please reply to this Email.\n\nYour Global Compact Network Switzerland & Liechtenstein Secretariat\n\n\n\nHere are the event details:\n\nIntroduction to the UN Global Compact & CSR/RBC (English)\n2 February 2023\, 13:30–15:00 CET\nOnline Event
X-ALT-DESC;FMTTYPE=text/html:Thank you for registering to our event "Introduction to the UN Global Compact and CSR/RBC".\n\nWe're looking forward to seeing you there.\n\nJoin Zoom Meeting\nhttps://us02web.zoom.us/j/81183887543\n\nMeeting-ID: 811 8388 7543\n\nDial in according to current location (Switzerland):\n+41 44 529 92 72\n+41 22 591 00 05\n+41 22 591 01 56\n+41 31 528 09 88\n+41 43 210 70 42\n+41 43 210 71 08\nOther locations: https://us02web.zoom.us/u/kc7FZabPlf\n\nIf you have any questions or need to cancel your registration\, please reply to this Email.\n\nYour Global Compact Network Switzerland & Liechtenstein Secretariat\n\n\n\nHere are the event details:<br>Introduction to the UN Global Compact & CSR/RBC (English)\n2 February 2023\, 13:30–15:00 CET\nOnline Event
END:VEVENT
END:VCALENDAR
