BEGIN:VCALENDAR
CALSCALE:GREGORIAN
BEGIN:VEVENT
DTSTAMP:20231022T063336Z
DTSTART:20200427T120000Z
DTEND:20200427T130000Z
SUMMARY:Webinar: Introduction to Human Rights Due Diligence
UID:76315b93-3a4d-4729-94c8-c404161c9037
LOCATION:
DESCRIPTION:Thank you for registering to our event!\n\nWe're looking forward to seeing you there.\n\nHere are the event details:\n\nWebinar: Introduction to Human Rights Due Diligence\n27 April 2020\, 14:00–15:00\nWebinar
X-ALT-DESC;FMTTYPE=text/html:Thank you for registering to our event!\n\nWe're looking forward to seeing you there.\n\nHere are the event details:<br>Webinar: Introduction to Human Rights Due Diligence\n27 April 2020\, 14:00–15:00\nWebinar
END:VEVENT
END:VCALENDAR
