BEGIN:VCALENDAR
CALSCALE:GREGORIAN
BEGIN:VEVENT
DTSTAMP:20231022T063152Z
DTSTART:20210708T120000Z
DTEND:20210708T143000Z
SUMMARY:8th meeting of the Working Group Sustainable Supply Chains
UID:7862e778-50bb-44d4-813c-359a60d5ae4e
LOCATION:
X-ALT-DESC;FMTTYPE=text/html:
END:VEVENT
END:VCALENDAR
