BEGIN:VCALENDAR
CALSCALE:GREGORIAN
BEGIN:VEVENT
DTSTAMP:20231022T054315Z
DTSTART:20231206T130000Z
DTEND:20231206T143000Z
SUMMARY:Introduction to the UN Global Compact & CSR/RBC (English) 
UID:795f784e-16b1-4a1f-b7c1-14fa459dee02
LOCATION:
DESCRIPTION:Thank you for registering to our event "Introduction to the UN Global Compact and CSR/RBC".\n\nWe're looking forward to seeing you there.\n\nJoin Zoom Meeting\nhttps://us02web.zoom.us/j/83610128189\n\nMeeting ID: 836 1012 8189\nOne tap mobile\n+41225910156\,\,83610128189# Switzerland\n+41315280988\,\,83610128189# Switzerland\n\nDial by your location\n        +41 22 591 01 56 Switzerland\n        +41 31 528 09 88 Switzerland\n        +41 43 210 70 42 Switzerland\n        +41 43 210 71 08 Switzerland\n        +41 44 529 92 72 Switzerland\n        +41 22 591 00 05 Switzerland\n\nMeeting ID: 836 1012 8189\nFind your local number: https://us02web.zoom.us/u/kcuMyKRb1Y\n\nIf you have any questions or need to cancel your registration\, please reply to this Email.\n\nYour Global Compact Network Switzerland & Liechtenstein Secretariat\n\n\n\nHere are the event details:\n\nIntroduction to the UN Global Compact & CSR/RBC (English) \n6 December 2023\, 14:00–15:30 CET\nOnline Event
X-ALT-DESC;FMTTYPE=text/html:Thank you for registering to our event "Introduction to the UN Global Compact and CSR/RBC".\n\nWe're looking forward to seeing you there.\n\nJoin Zoom Meeting\nhttps://us02web.zoom.us/j/83610128189\n\nMeeting ID: 836 1012 8189\nOne tap mobile\n+41225910156\,\,83610128189# Switzerland\n+41315280988\,\,83610128189# Switzerland\n\nDial by your location\n        +41 22 591 01 56 Switzerland\n        +41 31 528 09 88 Switzerland\n        +41 43 210 70 42 Switzerland\n        +41 43 210 71 08 Switzerland\n        +41 44 529 92 72 Switzerland\n        +41 22 591 00 05 Switzerland\n\nMeeting ID: 836 1012 8189\nFind your local number: https://us02web.zoom.us/u/kcuMyKRb1Y\n\nIf you have any questions or need to cancel your registration\, please reply to this Email.\n\nYour Global Compact Network Switzerland & Liechtenstein Secretariat\n\n\n\nHere are the event details:<br>Introduction to the UN Global Compact & CSR/RBC (English) \n6 December 2023\, 14:00–15:30 CET\nOnline Event
END:VEVENT
END:VCALENDAR
