BEGIN:VCALENDAR
CALSCALE:GREGORIAN
BEGIN:VEVENT
DTSTAMP:20231022T060901Z
DTSTART:20230711T130000Z
DTEND:20230712T130000Z
SUMMARY:Women's Empowerment Principles 101
UID:79bb1026-fe66-4bc8-80d0-80cb835d1f80
LOCATION:
X-ALT-DESC;FMTTYPE=text/html:
END:VEVENT
END:VCALENDAR
