BEGIN:VCALENDAR
CALSCALE:GREGORIAN
BEGIN:VEVENT
DTSTAMP:20231022T063259Z
DTSTART:20230309T130000Z
DTEND:20230309T140000Z
SUMMARY:Implementing Responsible Security Management in Complex Environments
UID:7198cd92-5de4-494e-ada7-f36ed055319a
LOCATION:
DESCRIPTION:Thank you for registering to our event "Implementing Responsible Security Management in Complex Environments".\n\nWe're looking forward to seeing you there.\n\nJoin Zoom Meeting\nhttps://us02web.zoom.us/j/87110100421\n\nMeeting-ID: 871 1010 0421\n\nDial in according to current location (Switzerland):\n+41 44 529 92 72\n+41 22 591 00 05\n+41 22 591 01 56\n+41 31 528 09 88\n+41 43 210 70 42\n+41 43 210 71 08\nOther locations: https://us02web.zoom.us/u/kc7FZabPlf\n\nIf you have any questions or need to cancel your registration\, please reply to this Email.\n\nYour Global Compact Network Switzerland & Liechtenstein Secretariat\n\n\n\nHere are the event details:\n\nImplementing Responsible Security Management in Complex Environments\n9 March 2023\, 14:00–15:00\nWebinar
X-ALT-DESC;FMTTYPE=text/html:Thank you for registering to our event "Implementing Responsible Security Management in Complex Environments".\n\nWe're looking forward to seeing you there.\n\nJoin Zoom Meeting\nhttps://us02web.zoom.us/j/87110100421\n\nMeeting-ID: 871 1010 0421\n\nDial in according to current location (Switzerland):\n+41 44 529 92 72\n+41 22 591 00 05\n+41 22 591 01 56\n+41 31 528 09 88\n+41 43 210 70 42\n+41 43 210 71 08\nOther locations: https://us02web.zoom.us/u/kc7FZabPlf\n\nIf you have any questions or need to cancel your registration\, please reply to this Email.\n\nYour Global Compact Network Switzerland & Liechtenstein Secretariat\n\n\n\nHere are the event details:<br>Implementing Responsible Security Management in Complex Environments\n9 March 2023\, 14:00–15:00\nWebinar
END:VEVENT
END:VCALENDAR
