BEGIN:VCALENDAR
CALSCALE:GREGORIAN
BEGIN:VEVENT
DTSTAMP:20231022T063210Z
DTSTART:20221208T080000Z
DTEND:20221208T103000Z
SUMMARY:GCNSL & öbu : 12th Meeting of the Working Group on Sustainable Supply Chain Management
UID:71bcff6c-0bf9-4ab4-8a1d-9165cf606d35
LOCATION:
X-ALT-DESC;FMTTYPE=text/html:
END:VEVENT
END:VCALENDAR
