BEGIN:VCALENDAR
CALSCALE:GREGORIAN
BEGIN:VEVENT
DTSTAMP:20231022T060910Z
DTSTART:20230919T080000Z
DTEND:20230919T093000Z
SUMMARY:Sharing & Learning: Climate Mitigation
UID:72073d91-4fce-4707-a9f3-5f719c9266b9
LOCATION:
DESCRIPTION:Thank you for registering to our event "Sharing & Learning: Climate Mitigation".\n\nWe're looking forward to seeing you there.\n\nJoin Zoom Meeting\nhttps://zoom.us/j/91299935470\nMeeting-ID: 912 9993 5470\n\n\nHere are the event details:\n\nSharing & Learning: Climate Mitigation\n19 September 2023\, 10:00–11:30\nWebinar
X-ALT-DESC;FMTTYPE=text/html:Thank you for registering to our event "Sharing & Learning: Climate Mitigation".\n\nWe're looking forward to seeing you there.\n\nJoin Zoom Meeting\nhttps://zoom.us/j/91299935470\nMeeting-ID: 912 9993 5470\n\n\nHere are the event details:<br>Sharing & Learning: Climate Mitigation\n19 September 2023\, 10:00–11:30\nWebinar
END:VEVENT
END:VCALENDAR
