BEGIN:VCALENDAR
CALSCALE:GREGORIAN
BEGIN:VEVENT
DTSTAMP:20231022T063124Z
DTSTART:20221122T110000Z
DTEND:20221122T120000Z
SUMMARY:Webinar EU Whistleblowing Directive: How does it affect Swiss Companies?
UID:731d0719-9b29-4d69-9c92-84ad9782bf06
LOCATION:
DESCRIPTION:Thank you for registering to our event "Webinar EU Whistleblowing Directive: How does it affect Swiss Companies?".\n\nWe're looking forward to seeing you there.\n\nJoin Zoom Meeting\nhttps://us02web.zoom.us/j/89428132320\n\nMeeting ID: 894 2813 2320\nOne tap mobile\n+41225910005\,\,89428132320# Switzerland\n+41225910156\,\,89428132320# Switzerland\n\nDial by your location\n        +41 22 591 00 05 Switzerland\n        +41 22 591 01 56 Switzerland\n        +41 31 528 09 88 Switzerland\n        +41 43 210 70 42 Switzerland\n        +41 43 210 71 08 Switzerland\n        +41 44 529 92 72 Switzerland\nMeeting ID: 894 2813 2320\nFind your local number: https://us02web.zoom.us/u/kbnQiQqaEA\n\n\nIf you have any questions or need to cancel your registration\, please reply to this Email.\n\nYour Global Compact Network Switzerland & Liechtenstein Secretariat\n\n\n\nHere are the event details:\n\nWebinar EU Whistleblowing Directive: How does it affect Swiss Companies?\n22 November 2022\, 12:00–13:00 CET\nWebinar
X-ALT-DESC;FMTTYPE=text/html:Thank you for registering to our event "Webinar EU Whistleblowing Directive: How does it affect Swiss Companies?".\n\nWe're looking forward to seeing you there.\n\nJoin Zoom Meeting\nhttps://us02web.zoom.us/j/89428132320\n\nMeeting ID: 894 2813 2320\nOne tap mobile\n+41225910005\,\,89428132320# Switzerland\n+41225910156\,\,89428132320# Switzerland\n\nDial by your location\n        +41 22 591 00 05 Switzerland\n        +41 22 591 01 56 Switzerland\n        +41 31 528 09 88 Switzerland\n        +41 43 210 70 42 Switzerland\n        +41 43 210 71 08 Switzerland\n        +41 44 529 92 72 Switzerland\nMeeting ID: 894 2813 2320\nFind your local number: https://us02web.zoom.us/u/kbnQiQqaEA\n\n\nIf you have any questions or need to cancel your registration\, please reply to this Email.\n\nYour Global Compact Network Switzerland & Liechtenstein Secretariat\n\n\n\nHere are the event details:<br>Webinar EU Whistleblowing Directive: How does it affect Swiss Companies?\n22 November 2022\, 12:00–13:00 CET\nWebinar
END:VEVENT
END:VCALENDAR
