BEGIN:VCALENDAR
CALSCALE:GREGORIAN
BEGIN:VEVENT
DTSTAMP:20231022T063236Z
DTSTART:20220914T130000Z
DTEND:20220914T140000Z
SUMMARY:Deep dive on key requirements of the new Communication on Progress (2/2)
UID:7af884d5-b61c-46d3-b435-f192cfe171f5
LOCATION:
X-ALT-DESC;FMTTYPE=text/html:
END:VEVENT
END:VCALENDAR
