BEGIN:VCALENDAR
CALSCALE:GREGORIAN
BEGIN:VEVENT
DTSTAMP:20231022T063213Z
DTSTART:20230222T140000Z
DTEND:20230223T140000Z
SUMMARY:New CoP Live Demonstration (2nd Session)
UID:7b7d54e8-3d3f-4a0d-b884-87b702b048e6
LOCATION:
X-ALT-DESC;FMTTYPE=text/html:
END:VEVENT
END:VCALENDAR
