BEGIN:VCALENDAR
CALSCALE:GREGORIAN
BEGIN:VEVENT
DTSTAMP:20231022T063232Z
DTSTART:20200506T133000Z
DTEND:20200506T143000Z
SUMMARY:Webinar: How to draft a Communication on Progress (COP)? - English 
UID:7c4c298b-60e3-4d44-8529-3f3add3ca636
LOCATION:
DESCRIPTION:Thank you for registering to our event!\n\nWe're looking forward to seeing you there.\n\nHere are the event details:\n\nWebinar: How to draft a Communication on Progress (COP)? - English \n6 May 2020\, 15:30–16:30\nWebinar
X-ALT-DESC;FMTTYPE=text/html:Thank you for registering to our event!\n\nWe're looking forward to seeing you there.\n\nHere are the event details:<br>Webinar: How to draft a Communication on Progress (COP)? - English \n6 May 2020\, 15:30–16:30\nWebinar
END:VEVENT
END:VCALENDAR
