BEGIN:VCALENDAR
CALSCALE:GREGORIAN
BEGIN:VEVENT
DTSTAMP:20231022T062815Z
DTSTART:20220503T070000Z
DTEND:20220503T083000Z
SUMMARY:Introduction à la diligence raisonnable en matière de droits de l'homme
UID:7d7b8376-f8e7-45f8-a5a9-72896315a21a
LOCATION:
DESCRIPTION:Thank you for registering to our event "Introduction à la diligence raisonnable en matière de droits de l'homme". This webinar will take place in French.\n\nWe're looking forward to seeing you there.\n\nJoin the webinar over this link:\nhttps://bit.ly/3KIK7bS\n\nIf you have any questions or need to cancel your registration\, please reply to this Email.\n\nYour Global Compact Network Switzerland & Liechtenstein Secretariat\n\n\n\nHere are the event details:\n\nIntroduction à la diligence raisonnable en matière de droits de l'homme\n3 May 2022\, 09:00–10:30\nWebinar
X-ALT-DESC;FMTTYPE=text/html:Thank you for registering to our event "Introduction à la diligence raisonnable en matière de droits de l'homme". This webinar will take place in French.\n\nWe're looking forward to seeing you there.\n\nJoin the webinar over this link:\nhttps://bit.ly/3KIK7bS\n\nIf you have any questions or need to cancel your registration\, please reply to this Email.\n\nYour Global Compact Network Switzerland & Liechtenstein Secretariat\n\n\n\nHere are the event details:<br>Introduction à la diligence raisonnable en matière de droits de l'homme\n3 May 2022\, 09:00–10:30\nWebinar
END:VEVENT
END:VCALENDAR
