BEGIN:VCALENDAR
CALSCALE:GREGORIAN
BEGIN:VEVENT
DTSTAMP:20231022T063103Z
DTSTART:20230606T113000Z
DTEND:20230606T150000Z
SUMMARY:General Assembly 2023
UID:7e1916e2-970c-4b11-b68a-d62055e4d974
LOCATION:Bahnhofplatz 2\, 3011 Bern\, Switzerland
DESCRIPTION:Thank you for registering to our Annual General Assembly 2023! \n\nIf you have any questions please do not hesitate to contact us.\n\nWe're looking forward to seeing you Bern!\n\nKind regards\nUN Global Compact Network Switzerland & Liechtenstein\n\n\nHere are the event details:\n\nGeneral Assembly 2023\n6 June 2023\, 13:30–17:00\nBerner Generationenhaus\, Bahnhofplatz 2\, 3011 Bern\, Switzerland
X-ALT-DESC;FMTTYPE=text/html:Thank you for registering to our Annual General Assembly 2023! \n\nIf you have any questions please do not hesitate to contact us.\n\nWe're looking forward to seeing you Bern!\n\nKind regards\nUN Global Compact Network Switzerland & Liechtenstein\n\n\nHere are the event details:<br>General Assembly 2023\n6 June 2023\, 13:30–17:00\nBerner Generationenhaus\, Bahnhofplatz 2\, 3011 Bern\, Switzerland
END:VEVENT
END:VCALENDAR
