BEGIN:VCALENDAR
CALSCALE:GREGORIAN
BEGIN:VEVENT
DTSTAMP:20231022T063041Z
DTSTART:20211026T120000Z
DTEND:20211026T133000Z
SUMMARY:Understanding child labour risks in supply chains of Swiss enterprises
UID:7e4c5423-4c51-43c2-b2d5-84ae8ae763e7
LOCATION:
DESCRIPTION:Thank you for registering to our event "Understanding child labour risks in supply chains of Swiss enterprises".\n\nWe're looking forward to seeing you there.\n\nJoin Zoom Meeting\nhttps://us02web.zoom.us/j/83302000840\n\nMeeting-ID: 833 0200 0840\n\nDial in according to current location (Switzerland):\n+41 44 529 92 72\n+41 22 591 00 05\n+41 22 591 01 56\n+41 31 528 09 88\n+41 43 210 70 42\n+41 43 210 71 08\nOther locations: https://us02web.zoom.us/u/kc7FZabPlf\n\nIf you have any questions or need to cancel your participation\, please reply to this Email.\n\nYour Global Compact Network Switzerland & Liechtenstein Secretariat\n\nHere are the event details:\n\nUnderstanding child labour risks in supply chains of Swiss enterprises\n26 October 2021\, 14:00–15:30 CEST\nWebinar
X-ALT-DESC;FMTTYPE=text/html:Thank you for registering to our event "Understanding child labour risks in supply chains of Swiss enterprises".\n\nWe're looking forward to seeing you there.\n\nJoin Zoom Meeting\nhttps://us02web.zoom.us/j/83302000840\n\nMeeting-ID: 833 0200 0840\n\nDial in according to current location (Switzerland):\n+41 44 529 92 72\n+41 22 591 00 05\n+41 22 591 01 56\n+41 31 528 09 88\n+41 43 210 70 42\n+41 43 210 71 08\nOther locations: https://us02web.zoom.us/u/kc7FZabPlf\n\nIf you have any questions or need to cancel your participation\, please reply to this Email.\n\nYour Global Compact Network Switzerland & Liechtenstein Secretariat\n\nHere are the event details:<br>Understanding child labour risks in supply chains of Swiss enterprises\n26 October 2021\, 14:00–15:30 CEST\nWebinar
END:VEVENT
END:VCALENDAR
