BEGIN:VCALENDAR
CALSCALE:GREGORIAN
BEGIN:VEVENT
DTSTAMP:20231022T062802Z
DTSTART:20210617T084500Z
DTEND:20210617T094500Z
SUMMARY:Vulnerable Brains in a Divided World: How to establish Sustainable Solidarity
UID:849d05c2-d3dc-40c9-a72e-d39bc54cc8cd
LOCATION:
DESCRIPTION:Thank you for registering to our event "Vunerable Brains in a Divided World: How to establish Sustainable Solidarity"\n\nWe're looking forward to seeing you there.\n\nJoin Zoom Meeting\nhttps://us02web.zoom.us/j/84977834139\n\nMeeting ID: 849 7783 4139\n\nDial in according to current location (Switzerland):\n+41 44 529 92 72\n+41 22 591 00 05\n+41 22 591 01 56\n+41 31 528 09 88\n+41 43 210 70 42\n+41 43 210 71 08\nOther locations: https://us02web.zoom.us/u/kc7FZabPlf\n\nIf you have any questions or need to cancel your registration\, please reply to this Email.\n\nYour Global Compact Network Switzerland & Liechtenstein Secretariat\n\n\n\nHere are the event details:\n\nVulnerable Brains in a Divided World: How to establish Sustainable Solidarity\n17 June 2021\, 10:45–11:45 CEST\nOnline Event
X-ALT-DESC;FMTTYPE=text/html:Thank you for registering to our event "Vunerable Brains in a Divided World: How to establish Sustainable Solidarity"\n\nWe're looking forward to seeing you there.\n\nJoin Zoom Meeting\nhttps://us02web.zoom.us/j/84977834139\n\nMeeting ID: 849 7783 4139\n\nDial in according to current location (Switzerland):\n+41 44 529 92 72\n+41 22 591 00 05\n+41 22 591 01 56\n+41 31 528 09 88\n+41 43 210 70 42\n+41 43 210 71 08\nOther locations: https://us02web.zoom.us/u/kc7FZabPlf\n\nIf you have any questions or need to cancel your registration\, please reply to this Email.\n\nYour Global Compact Network Switzerland & Liechtenstein Secretariat\n\n\n\nHere are the event details:<br>Vulnerable Brains in a Divided World: How to establish Sustainable Solidarity\n17 June 2021\, 10:45–11:45 CEST\nOnline Event
END:VEVENT
END:VCALENDAR
