BEGIN:VCALENDAR
CALSCALE:GREGORIAN
BEGIN:VEVENT
DTSTAMP:20231022T063113Z
DTSTART:20230511T113000Z
DTEND:20230511T130000Z
SUMMARY:Understanding child labour risks and impacts in companies value chains
UID:869de9aa-b56b-4280-8c5f-c4303b801ff4
LOCATION:
DESCRIPTION:Thank you for registering to our event "Understanding child labour risks and impacts in companies value chains".\n\nWe're looking forward to seeing you there.\n\nJoin Zoom Meeting\nhttps://us02web.zoom.us/j/86345911263\nMeeting-ID: 863 4591 1263\n\nHere are the event details:\n\nUnderstanding child labour risks and impacts in companies value chains\n11 May 2023\, 13:30–15:00\nWebinar
X-ALT-DESC;FMTTYPE=text/html:Thank you for registering to our event "Understanding child labour risks and impacts in companies value chains".\n\nWe're looking forward to seeing you there.\n\nJoin Zoom Meeting\nhttps://us02web.zoom.us/j/86345911263\nMeeting-ID: 863 4591 1263\n\nHere are the event details:<br>Understanding child labour risks and impacts in companies value chains\n11 May 2023\, 13:30–15:00\nWebinar
END:VEVENT
END:VCALENDAR
