BEGIN:VCALENDAR
CALSCALE:GREGORIAN
BEGIN:VEVENT
DTSTAMP:20231022T063056Z
DTSTART:20211112T080000Z
DTEND:20211112T103000Z
SUMMARY:9th Meeting of the Working Group on Sustainable Supply Chain Management
UID:872636f5-e36e-4f4f-970b-dc6ca3a32615
LOCATION:
DESCRIPTION:Thank you for registering to our event "9th Meeting of the Working Group on Sustainable Supply Chains".\n\nWe're looking forward to seeing you there.\n\nJoin Zoom Meeting\nhttps://us02web.zoom.us/j/88656805006\n\nMeeting-ID: 886 5680 5006\n\nDial in according to current location (Switzerland):\n+41 44 529 92 72\n+41 22 591 00 05\n+41 22 591 01 56\n+41 31 528 09 88\n+41 43 210 70 42\n+41 43 210 71 08\nOther locations: https://us02web.zoom.us/u/kc7FZabPlf\n\nIf you have any questions or need to cancel your registration\, please reply to this Email.\n\nYour Global Compact Network Switzerland & Liechtenstein Secretariat\n\nHere are the event details:\n\n9th Meeting of the Working Group on Sustainable Supply Chain Management\n12 November 2021\, 09:00–11:30\nWebinar
X-ALT-DESC;FMTTYPE=text/html:Thank you for registering to our event "9th Meeting of the Working Group on Sustainable Supply Chains".\n\nWe're looking forward to seeing you there.\n\nJoin Zoom Meeting\nhttps://us02web.zoom.us/j/88656805006\n\nMeeting-ID: 886 5680 5006\n\nDial in according to current location (Switzerland):\n+41 44 529 92 72\n+41 22 591 00 05\n+41 22 591 01 56\n+41 31 528 09 88\n+41 43 210 70 42\n+41 43 210 71 08\nOther locations: https://us02web.zoom.us/u/kc7FZabPlf\n\nIf you have any questions or need to cancel your registration\, please reply to this Email.\n\nYour Global Compact Network Switzerland & Liechtenstein Secretariat\n\nHere are the event details:<br>9th Meeting of the Working Group on Sustainable Supply Chain Management\n12 November 2021\, 09:00–11:30\nWebinar
END:VEVENT
END:VCALENDAR
