BEGIN:VCALENDAR
CALSCALE:GREGORIAN
BEGIN:VEVENT
DTSTAMP:20231022T063343Z
DTSTART:20210629T144500Z
DTEND:20210629T160000Z
SUMMARY:Global Compact Network USA: Child Labour Webinar Series - Exploring How the Informal Sector Feeds Into Formal Supply Cha
UID:88f2a4f6-c14e-45f3-b7a2-028223809d10
LOCATION:
X-ALT-DESC;FMTTYPE=text/html:
END:VEVENT
END:VCALENDAR
