BEGIN:VCALENDAR
CALSCALE:GREGORIAN
BEGIN:VEVENT
DTSTAMP:20231022T063154Z
DTSTART:20220317T140000Z
DTEND:20220317T153000Z
SUMMARY:Global Compact Network UK: Gender Balance (SDG Benchmarks for Business Transformation - Webinar Series)
UID:89242e73-c5a6-42c0-8e45-315a3a42a325
LOCATION:
X-ALT-DESC;FMTTYPE=text/html:
END:VEVENT
END:VCALENDAR
