BEGIN:VCALENDAR
CALSCALE:GREGORIAN
BEGIN:VEVENT
DTSTAMP:20231022T063419Z
DTSTART:20211020T113000Z
DTEND:20211020T130000Z
SUMMARY:Introduction: Corporate Social Responsibility\, UN Global Compact and Business Sustainability
UID:80a9bf49-b9e3-4842-91d2-2c72bef46322
LOCATION:
DESCRIPTION:Thank you for registering to our event "Introduction to the UNGC and CSR/RBC"\n\nWe're looking forward to seeing you there.\n\nJoin Zoom-Meeting\nhttps://us02web.zoom.us/j/86765490754\n\nMeeting-ID: 867 6549 0754\n\nDial in according to current location (Switzerland):\n+41 44 529 92 72\n+41 22 591 00 05\n+41 22 591 01 56\n+41 31 528 09 88\n+41 43 210 70 42\n+41 43 210 71 08\nOther locations: https://us02web.zoom.us/u/kc7FZabPlf\n\nIf you have any questions or need to cancel your registration\, please reply to this Email.\n\nYour Global Compact Network Switzerland & Liechtenstein Secretariat\n\nHere are the event details:\n\nIntroduction: Corporate Social Responsibility\, UN Global Compact and Business Sustainability\n20 October 2021\, 13:30–15:00\nWebinar
X-ALT-DESC;FMTTYPE=text/html:Thank you for registering to our event "Introduction to the UNGC and CSR/RBC"\n\nWe're looking forward to seeing you there.\n\nJoin Zoom-Meeting\nhttps://us02web.zoom.us/j/86765490754\n\nMeeting-ID: 867 6549 0754\n\nDial in according to current location (Switzerland):\n+41 44 529 92 72\n+41 22 591 00 05\n+41 22 591 01 56\n+41 31 528 09 88\n+41 43 210 70 42\n+41 43 210 71 08\nOther locations: https://us02web.zoom.us/u/kc7FZabPlf\n\nIf you have any questions or need to cancel your registration\, please reply to this Email.\n\nYour Global Compact Network Switzerland & Liechtenstein Secretariat\n\nHere are the event details:<br>Introduction: Corporate Social Responsibility\, UN Global Compact and Business Sustainability\n20 October 2021\, 13:30–15:00\nWebinar
END:VEVENT
END:VCALENDAR
