BEGIN:VCALENDAR
CALSCALE:GREGORIAN
BEGIN:VEVENT
DTSTAMP:20231022T062847Z
DTSTART:20220912T120000Z
DTEND:20220912T133000Z
SUMMARY:Webinar Series: Introduction to corporate climate action - Developing a climate strategy (1/4)
UID:82b9f2c0-7ef3-41ab-94f2-3e31bb2a775e
LOCATION:
DESCRIPTION:Thank you for registering to our webinar "Introduction to corporate climate management - Developing a climate strategy"\n\nWe're looking forward to seeing you there.\n\nJoin Zoom Meeting\nhttps://us02web.zoom.us/j/89353152004\n\nMeeting ID:  893 5315 2004\n\nDial in according to current location (Switzerland):\n  +41 43 210 70 42 Schweiz\n  +41 43 210 71 08 Schweiz\n  +41 44 529 92 72 Schweiz\n  +41 22 591 00 05 Schweiz\n  +41 22 591 01 56 Schweiz\n  +41 31 528 09 88 Schweiz\nOther locations:    https://us02web.zoom.us/j/89353152004\n\n\nIf you have any questions or need to cancel your registration\, please reply to this Email.\n\nYour Global Compact Network Switzerland & Liechtenstein Secretariat\n\n\n\nHere are the event details\n\nWebinar Series: Introduction to corporate climate action - Developing a climate strategy (1/4)\n12 September 2022\, 14:00–15:30 CEST\nWebinar
X-ALT-DESC;FMTTYPE=text/html:Thank you for registering to our webinar "Introduction to corporate climate management - Developing a climate strategy"\n\nWe're looking forward to seeing you there.\n\nJoin Zoom Meeting\nhttps://us02web.zoom.us/j/89353152004\n\nMeeting ID:  893 5315 2004\n\nDial in according to current location (Switzerland):\n  +41 43 210 70 42 Schweiz\n  +41 43 210 71 08 Schweiz\n  +41 44 529 92 72 Schweiz\n  +41 22 591 00 05 Schweiz\n  +41 22 591 01 56 Schweiz\n  +41 31 528 09 88 Schweiz\nOther locations:    https://us02web.zoom.us/j/89353152004\n\n\nIf you have any questions or need to cancel your registration\, please reply to this Email.\n\nYour Global Compact Network Switzerland & Liechtenstein Secretariat\n\n\n\nHere are the event details<br>Webinar Series: Introduction to corporate climate action - Developing a climate strategy (1/4)\n12 September 2022\, 14:00–15:30 CEST\nWebinar
END:VEVENT
END:VCALENDAR
